BEGIN:VCALENDAR
PRODID:-//kirchenweb.ch gmbh//veranstaltungsausgabe v2.0//DE
VERSION:2.0
METHOD:PUBLISH
BEGIN:VEVENT
DTSTART:20260514T080000Z
DTEND:20260514T090000Z
LOCATION:Evang. Kirche Scherzingen\, \,
TRANSP:OPAQUE
SEQUENCE:0
UID:1750-veranstaltung@kircheamsee.ch
DTSTAMP:20260106T105513Z
DESCRIPTION:Kontakt: Pfarrer Christian Stahmann\n\nWeitere Infos:
  https://www.kircheamsee.ch/veranstaltung/1750
SUMMARY:Gottesdienst an Auffahrt mit Abendmahl
PRIORITY:5
X-MICROSOFT-CDO-IMPORTANCE:1
CLASS:PUBLIC
END:VEVENT
END:VCALENDAR
