BEGIN:VCALENDAR
PRODID:-//kirchenweb.ch gmbh//veranstaltungsausgabe v2.0//DE
VERSION:2.0
METHOD:PUBLISH
BEGIN:VEVENT
DTSTART:20260628T090000Z
DTEND:20260628T100000Z
LOCATION:Chli Rigi\, Bottighofen\, \,
TRANSP:OPAQUE
SEQUENCE:0
UID:1749-veranstaltung@kircheamsee.ch
DTSTAMP:20260106T104546Z
DESCRIPTION:Anschliessend Imbiss\n\nKontakt: Pfarrer Christian Stahmann\n
 \nWeitere Infos: https://www.kircheamsee.ch/veranstaltung/1749
SUMMARY:Waldgottesdienst
PRIORITY:5
X-MICROSOFT-CDO-IMPORTANCE:1
CLASS:PUBLIC
END:VEVENT
END:VCALENDAR
