BEGIN:VCALENDAR
PRODID:-//kirchenweb.ch gmbh//veranstaltungsausgabe v2.0//DE
VERSION:2.0
METHOD:PUBLISH
BEGIN:VEVENT
DTSTART:20260614T170000Z
DTEND:20260614T180000Z
LOCATION:Evang. Kirche Scherzingen\, \,
TRANSP:OPAQUE
SEQUENCE:0
UID:1741-veranstaltung@kircheamsee.ch
DTSTAMP:20260106T104411Z
DESCRIPTION:Kontakt: Pfarrer Christian Stahmann\n\nWeitere Infos:
  https://www.kircheamsee.ch/veranstaltung/1741
SUMMARY:Abedgottesdienst
PRIORITY:5
X-MICROSOFT-CDO-IMPORTANCE:1
CLASS:PUBLIC
END:VEVENT
END:VCALENDAR
