BEGIN:VCALENDAR
PRODID:-//kirchenweb.ch gmbh//veranstaltungsausgabe v2.0//DE
VERSION:2.0
METHOD:PUBLISH
BEGIN:VEVENT
DTSTART:20260621T080000Z
DTEND:20260621T090000Z
LOCATION:Evang. Kirche Scherzingen\, \,
TRANSP:OPAQUE
SEQUENCE:0
UID:1715-veranstaltung@kircheamsee.ch
DTSTAMP:20260106T104425Z
DESCRIPTION:Anschliessend Kirchencafé\n\nKontakt: Pfarrer Christian
  Stahmann\n\nWeitere Infos: https://www.kircheamsee.ch/veranstaltung/1715
SUMMARY:Gottesdienst
PRIORITY:5
X-MICROSOFT-CDO-IMPORTANCE:1
CLASS:PUBLIC
END:VEVENT
END:VCALENDAR
