BEGIN:VCALENDAR
PRODID:-//kirchenweb.ch gmbh//veranstaltungsausgabe v2.0//DE
VERSION:2.0
METHOD:PUBLISH
BEGIN:VEVENT
DTSTART:20260510T080000Z
DTEND:20260510T090000Z
LOCATION:Evang. Kirche Scherzingen\, \,
TRANSP:OPAQUE
SEQUENCE:0
UID:1711-veranstaltung@kircheamsee.ch
DTSTAMP:20260106T105400Z
DESCRIPTION:Anschliessend Kirchencafé\n\nKontakt: Pfarrer Christian
  Stahmann\n\nWeitere Infos: https://www.kircheamsee.ch/veranstaltung/1711
SUMMARY:Gottesdienst zum Muttertag
PRIORITY:5
X-MICROSOFT-CDO-IMPORTANCE:1
CLASS:PUBLIC
END:VEVENT
END:VCALENDAR
